BEGIN:VCALENDAR
VERSION:2.0
PRODID:-//Suchhunde Grevenbroich - ECPv6.2.6//NONSGML v1.0//EN
CALSCALE:GREGORIAN
METHOD:PUBLISH
X-ORIGINAL-URL:https://k9-suchhunde-grevenbroich.de
X-WR-CALDESC:Veranstaltungen für Suchhunde Grevenbroich
REFRESH-INTERVAL;VALUE=DURATION:PT1H
X-Robots-Tag:noindex
X-PUBLISHED-TTL:PT1H
BEGIN:VTIMEZONE
TZID:Europe/Berlin
BEGIN:DAYLIGHT
TZOFFSETFROM:+0100
TZOFFSETTO:+0200
TZNAME:CEST
DTSTART:20260329T010000
END:DAYLIGHT
BEGIN:STANDARD
TZOFFSETFROM:+0200
TZOFFSETTO:+0100
TZNAME:CET
DTSTART:20261025T010000
END:STANDARD
END:VTIMEZONE
BEGIN:VEVENT
DTSTART;VALUE=DATE:20260606
DTEND;VALUE=DATE:20260613
DTSTAMP:20260421T220242
CREATED:20251003T185125Z
LAST-MODIFIED:20251003T185125Z
UID:1123-1780704000-1781308799@k9-suchhunde-grevenbroich.de
SUMMARY:ZEELAND 2026 - 06.-11.6.2026
DESCRIPTION:Trainingswoche mit dem Trainerteam in traumhafter Umgebung – verbring eine unvergessene Woche mit deinem Hund…. \nDas grobe Programm vor Ort ist wie folgt: \nSamstag Anreise\, Gemeinsames Abendessen \n\nSonntag Trailen\nMontag Trailen\nDienstag Pause\nMittwoch Trailen\nDonnerstag Trailen – anschließend gemeinsames Abendessen\nFreitag Abreise\n\nUnterkunft ist Sache der Teilnehmer\, es bietet sich an\, im Raum Renesse oder Burgh Hamsteede zu \nwohnen. \nAnmeldung unter suchhunde-grevenbroich@t-online.de. \nWir freuen uns auf eine tolle Woche mit euch. – euer Trainerteam Grevenbroich \n  \nKosten: 350 Euro pro angemeldeten Hund (50% bei Buchung)  \nBei Stornierung fallen die Anzahlungskosten an! \n6.6.-11.6.2026 \nBitte aktiviere JavaScript in deinem Browser\, um dieses Formular fertigzustellen.Ich melde mich für die folgende Veranstaltung an. *Frühjahr GeländeTrainingHerbst GeländetrainingTrailen im BergwerkTrailen im BergwerkTrailen im BergwerkTrailen im BergwerkZEELAND 12. - 18. September 2026ZEELAND 2026 - 06.-11.6.2026ZEELAND 2026 - 30.5.-5.6.26ZEELAND 2026 - 5.-11.September 2026Wähle bitte die gewünschte Option aus. Name *VornameNachnameE-Mail *Wir benötigen noch weitere Infos von Dir.  *Online-Veranstaltungohne Hund (als Zuschauer)mit einem Hundmit zwei HundenWenn Du eine Online-Veranstaltung buchst\, dann wähle bitten den entsprechenden Button aus. Wenn Du eine Präsenzveranstaltung buchst\, benötigen wir weitere Informationen zum Team\, damit wir Dir eine entsprechende Bestätigung zusenden können.Kommentar oder NachrichtMöchtest Du sonst noch etwas wissen? Dann hast Du hier die Möglichkeit\, Deine Fragen zu stellen.Datenschutz *Ich habe die Datenschutzrichtlinien zur Kenntnis genommen.Wir versichern Ihnen\, dass wir die hier von Ihnen angebenen Daten einzig zu dem angegebenen Zweck verarbeiten. Im Übrigen verweisen wir auf unsere Datenschutzrichtlinien. http://k9-suchhunde-grevenbroich.de/datenschutz/Absenden
URL:https://k9-suchhunde-grevenbroich.de/event/zeeland-2026-06-11-6-2026/
CATEGORIES:Event
END:VEVENT
END:VCALENDAR